BEGIN:VCALENDAR
VERSION:2.0
CALSCALE:GREGORIAN
PRODID:-//Diputació de Barcelona//DibaCMS//EN
BEGIN:VEVENT
UID:8881
DTSTAMP:20260420T104210
DTSTART:20250517T203000
DTEND:20250517T220000
SUMMARY:ACTUACIÓ - LA TERNURA
LOCATION:08261 Cardona
METHOD:PUBLISH
X-WR-CALNAME:cardona@cardona.cat
X-WR-TIMEZONE:Europe/Madrid
DESCRIPTION:
URI:https://www.cardona.cat/arees/cultura-i-festes/calendari-teatre-municipal-els-catolics/actuacio-la-ternura.html
CLASS:PUBLIC
END:VEVENT
END:VCALENDAR
