BEGIN:VCALENDAR
VERSION:2.0
CALSCALE:GREGORIAN
PRODID:-//Diputació de Barcelona//DibaCMS//EN
BEGIN:VEVENT
UID:8726
DTSTAMP:20260421T210454
DTSTART:20250116T200000
DTEND:20250116T210000
SUMMARY:Ple ordinari Ajuntament de Cardona del mes de gener
LOCATION:Plaça de la Fira, 1 08261 Cardona
METHOD:PUBLISH
X-WR-CALNAME:cardona@cardona.cat
X-WR-TIMEZONE:Europe/Madrid
DESCRIPTION:
URI:https://www.cardona.cat/comunicacio/agenda/ple-ordinari-ajuntament-de-cardona-del-mes-de-gener.html
CLASS:PUBLIC
END:VEVENT
END:VCALENDAR
