BEGIN:VCALENDAR
VERSION:2.0
CALSCALE:GREGORIAN
PRODID:-//Diputació de Barcelona//DibaCMS//EN
BEGIN:VEVENT
UID:8677
DTSTAMP:20260424T191036
DTSTART:20241220T113000
DTEND:20241220T123000
SUMMARY:Concert de Nadal de l’Escola Patrocini
LOCATION:Auditori Valentí Fuster 
METHOD:PUBLISH
X-WR-CALNAME:cardona@cardona.cat
X-WR-TIMEZONE:Europe/Madrid
DESCRIPTION:
URI:https://www.cardona.cat/comunicacio/agenda/concert-de-nadal-de-lescola-patrocini.html
CLASS:PUBLIC
END:VEVENT
END:VCALENDAR
