BEGIN:VCALENDAR
VERSION:2.0
CALSCALE:GREGORIAN
PRODID:-//Diputació de Barcelona//DibaCMS//EN
BEGIN:VEVENT
UID:8648
DTSTAMP:20260424T111612
DTSTART:20241118T180000
DTEND:20241118T200000
SUMMARY:Jornada participativa sobre l'Agenda Urbana de Cardona
LOCATION:Plaça de la Fira 08261 Cardona
METHOD:PUBLISH
X-WR-CALNAME:cardona@cardona.cat
X-WR-TIMEZONE:Europe/Madrid
DESCRIPTION:
URI:https://www.cardona.cat/comunicacio/agenda/jornada-participativa-sobre-lagenda-urbana-de-cardona.html
CLASS:PUBLIC
END:VEVENT
END:VCALENDAR
