BEGIN:VCALENDAR
VERSION:2.0
CALSCALE:GREGORIAN
PRODID:-//Diputació de Barcelona//DibaCMS//EN
BEGIN:VEVENT
UID:8605
DTSTAMP:20260420T150018
DTSTART:20241020T180000
DTEND:20241020T200000
SUMMARY:Cicle Gaudí - "Pájaros"
LOCATION:
METHOD:PUBLISH
X-WR-CALNAME:cardona@cardona.cat
X-WR-TIMEZONE:Europe/Madrid
DESCRIPTION:
URI:https://www.cardona.cat/comunicacio/agenda/cicle-gaudi-pajaros.html
CLASS:PUBLIC
END:VEVENT
END:VCALENDAR
