BEGIN:VCALENDAR
VERSION:2.0
CALSCALE:GREGORIAN
PRODID:-//Diputació de Barcelona//DibaCMS//EN
BEGIN:VEVENT
UID:8593
DTSTAMP:20260424T094339
DTSTART:20241024T173000
DTEND:20241024T190000
SUMMARY:LLegim plegats: Jugant amb en Bruno Munari
LOCATION:
METHOD:PUBLISH
X-WR-CALNAME:cardona@cardona.cat
X-WR-TIMEZONE:Europe/Madrid
DESCRIPTION:
URI:https://www.cardona.cat/comunicacio/agenda/llegim-plegats-jugant-amb-en-bruno-munari.html
CLASS:PUBLIC
END:VEVENT
END:VCALENDAR
