BEGIN:VCALENDAR
VERSION:2.0
CALSCALE:GREGORIAN
PRODID:-//Diputació de Barcelona//DibaCMS//EN
BEGIN:VEVENT
UID:8441
DTSTAMP:20260422T184547
DTSTART:20240911T000000
DTEND:20240911T000000
SUMMARY:Diada Nacional de Catalunya - 11 de setembre
LOCATION:
METHOD:PUBLISH
X-WR-CALNAME:cardona@cardona.cat
X-WR-TIMEZONE:Europe/Madrid
DESCRIPTION:Actes amb motiu de la Diada Nacional de Catalunya

URI:https://www.cardona.cat/comunicacio/agenda/diada-nacional-de-catalunya-11-de-setembre.html
CLASS:PUBLIC
END:VEVENT
END:VCALENDAR
