BEGIN:VCALENDAR
VERSION:2.0
CALSCALE:GREGORIAN
PRODID:-//Diputació de Barcelona//DibaCMS//EN
BEGIN:VEVENT
UID:8431
DTSTAMP:20260421T104845
DTSTART:20240713T000000
DTEND:20240713T000000
SUMMARY:Capvuitada de Corpus
LOCATION:Plaça de la Fira, 1 08261 Cardona
METHOD:PUBLISH
X-WR-CALNAME:cardona@cardona.cat
X-WR-TIMEZONE:Europe/Madrid
DESCRIPTION:El cap de setmana del 12, 13 i 14 de juliol es celebrarà la Capvuitada de Corpus a càrrec de la Colla de Geganters i Grallers de Cardona

URI:https://www.cardona.cat/comunicacio/agenda/8431-capvuitada-de-corpus.html
CLASS:PUBLIC
END:VEVENT
END:VCALENDAR
