BEGIN:VCALENDAR
VERSION:2.0
CALSCALE:GREGORIAN
PRODID:-//Diputació de Barcelona//DibaCMS//EN
BEGIN:VEVENT
UID:8420
DTSTAMP:20260423T195746
DTSTART:20240423T000000
DTEND:20240423T000000
SUMMARY:Sant Jordi
LOCATION:
METHOD:PUBLISH
X-WR-CALNAME:cardona@cardona.cat
X-WR-TIMEZONE:Europe/Madrid
DESCRIPTION:
URI:https://www.cardona.cat/comunicacio/agenda/8420-sant-jordi.html
CLASS:PUBLIC
END:VEVENT
END:VCALENDAR
