BEGIN:VCALENDAR
VERSION:2.0
CALSCALE:GREGORIAN
PRODID:-//Diputació de Barcelona//DibaCMS//EN
BEGIN:VEVENT
UID:8419
DTSTAMP:20260422T194543
DTSTART:20240420T183000
DTEND:20240420T200000
SUMMARY:Batecs culturals 2024 - Espectacle familiar "Cromàtics"
LOCATION:Auditori Valentí Fuster 
METHOD:PUBLISH
X-WR-CALNAME:cardona@cardona.cat
X-WR-TIMEZONE:Europe/Madrid
DESCRIPTION:
URI:https://www.cardona.cat/comunicacio/agenda/batecs-culturals-2024-espectacle-familiar-cromatics.html
CLASS:PUBLIC
END:VEVENT
END:VCALENDAR
