BEGIN:VCALENDAR
VERSION:2.0
CALSCALE:GREGORIAN
PRODID:-//Diputació de Barcelona//DibaCMS//EN
BEGIN:VEVENT
UID:8349
DTSTAMP:20260421T121041
DTSTART:20240214T110000
DTEND:20240214T120000
SUMMARY:Construint connexions, no addiccions. L'ús de les pantalles en la família
LOCATION:Sala dels Dolors 
METHOD:PUBLISH
X-WR-CALNAME:cardona@cardona.cat
X-WR-TIMEZONE:Europe/Madrid
DESCRIPTION:Xerrada impartida a càrrec de Lucía García (psicòloga)

URI:https://www.cardona.cat/comunicacio/agenda/construint-connexions-no-addiccions-lus-de-les-pantalles-en-la-familia.html
CLASS:PUBLIC
END:VEVENT
END:VCALENDAR
