BEGIN:VCALENDAR
VERSION:2.0
CALSCALE:GREGORIAN
PRODID:-//Diputació de Barcelona//DibaCMS//EN
BEGIN:VEVENT
UID:8340
DTSTAMP:20260420T104007
DTSTART:20240217T190000
DTEND:20240217T203000
SUMMARY:Els Miserables
LOCATION:Auditori Valentí Fuster 
METHOD:PUBLISH
X-WR-CALNAME:cardona@cardona.cat
X-WR-TIMEZONE:Europe/Madrid
DESCRIPTION:El musical Els Miserables és l’aposta ambiciosa del grup de teatre El Traspunt, que porta a escena el 17 i 18 de febrer un dels musicals més corals i atractius basada en la novel·la de Victor Hugo.

Aquesta és “una proposta que també vol ser un projecte de poble, de cohesió i col·laboració”, asseguren des del grup de teatre local. Hi col·laboren persones i entitats relacionades amb la música i el teatre, com l’Escola Municipal de Música-Musicant i la Coral Cardonina, mobilitzant més d’un centenar de persones.

URI:https://www.cardona.cat/comunicacio/agenda/els-miserables.html
CLASS:PUBLIC
END:VEVENT
END:VCALENDAR
