BEGIN:VCALENDAR
VERSION:2.0
CALSCALE:GREGORIAN
PRODID:-//Diputació de Barcelona//DibaCMS//EN
BEGIN:VEVENT
UID:8122
DTSTAMP:20260424T030957
DTSTART:20230611T180000
DTEND:20230611T190000
SUMMARY:Cicle Gaudí
LOCATION:
METHOD:PUBLISH
X-WR-CALNAME:cardona@cardona.cat
X-WR-TIMEZONE:Europe/Madrid
DESCRIPTION:
URI:https://www.cardona.cat/comunicacio/agenda/8122-cicle-gaudi.html
CLASS:PUBLIC
END:VEVENT
END:VCALENDAR
