BEGIN:VCALENDAR
VERSION:2.0
CALSCALE:GREGORIAN
PRODID:-//Diputació de Barcelona//DibaCMS//EN
BEGIN:VEVENT
UID:8112
DTSTAMP:20260424T001146
DTSTART:20230601T180000
DTEND:20230601T200000
SUMMARY:Trobada amb la il·lustradora Alba Marina Rivera
LOCATION:Carrer Pau Casals, s/n 08261 Cardona
METHOD:PUBLISH
X-WR-CALNAME:cardona@cardona.cat
X-WR-TIMEZONE:Europe/Madrid
DESCRIPTION:La il·lustradora Alba Marina Rivera ens parlarà dels seus contes i acabarem fent una petita activitat en família.

Cloenda del Club de lectura mini.

Obert a tothom. Recomanat per infants a partir dels 4 anys.

Amb la col·laboració de la Institució de les Lletres Catalanes.

URI:https://www.cardona.cat/comunicacio/agenda/trobada-amb-la-illustradora-alba-marina-rivera.html
CLASS:PUBLIC
END:VEVENT
END:VCALENDAR
