BEGIN:VCALENDAR
VERSION:2.0
CALSCALE:GREGORIAN
PRODID:-//Diputació de Barcelona//DibaCMS//EN
BEGIN:VEVENT
UID:8097
DTSTAMP:20260425T185558
DTSTART:20230908T000000
DTEND:20230912T000000
SUMMARY:Festa Major de Cardona 
LOCATION:
METHOD:PUBLISH
X-WR-CALNAME:cardona@cardona.cat
X-WR-TIMEZONE:Europe/Madrid
DESCRIPTION:
URI:https://www.cardona.cat/comunicacio/agenda/festa-major-de-cardona-.html
CLASS:PUBLIC
END:VEVENT
END:VCALENDAR
