BEGIN:VCALENDAR
VERSION:2.0
CALSCALE:GREGORIAN
PRODID:-//Diputació de Barcelona//DibaCMS//EN
BEGIN:VEVENT
UID:7898
DTSTAMP:20260422T022846
DTSTART:20221204T120000
DTEND:20221204T130000
SUMMARY:Acte institucional Santa Bàrbara
LOCATION:Al Parc Cultural de la Muntanya de Sal, al recinte de Mina Nieves. 
METHOD:PUBLISH
X-WR-CALNAME:cardona@cardona.cat
X-WR-TIMEZONE:Europe/Madrid
DESCRIPTION:Acte institucional d’homenatge als miners i a les seves famílies. Comptarà amb l'actuació musical de l'Escola Municipal de Música Musicant

URI:https://www.cardona.cat/comunicacio/agenda/acte-institucional-santa-barbara.html
CLASS:PUBLIC
END:VEVENT
END:VCALENDAR
