BEGIN:VCALENDAR
VERSION:2.0
CALSCALE:GREGORIAN
PRODID:-//Diputació de Barcelona//DibaCMS//EN
BEGIN:VEVENT
UID:7765
DTSTAMP:20260421T003833
DTSTART:20220904T190000
DTEND:20220904T210000
SUMMARY:Cicle Espais: Ginestà
LOCATION:Col·legiata del Castell de Cardona 
METHOD:PUBLISH
X-WR-CALNAME:cardona@cardona.cat
X-WR-TIMEZONE:Europe/Madrid
DESCRIPTION:
URI:https://www.cardona.cat/comunicacio/agenda/cicle-espais-ginesta.html
CLASS:PUBLIC
END:VEVENT
END:VCALENDAR
