BEGIN:VCALENDAR
VERSION:2.0
CALSCALE:GREGORIAN
PRODID:-//Diputació de Barcelona//DibaCMS//EN
BEGIN:VEVENT
UID:7756
DTSTAMP:20260425T184021
DTSTART:20220625T000000
DTEND:20220625T000000
SUMMARY:Festa del Barri Sant Miquel
LOCATION:
METHOD:PUBLISH
X-WR-CALNAME:cardona@cardona.cat
X-WR-TIMEZONE:Europe/Madrid
DESCRIPTION:
URI:https://www.cardona.cat/comunicacio/agenda/festa-del-barri-sant-miquel.html
CLASS:PUBLIC
END:VEVENT
END:VCALENDAR
