BEGIN:VCALENDAR
VERSION:2.0
CALSCALE:GREGORIAN
PRODID:-//Diputació de Barcelona//DibaCMS//EN
BEGIN:VEVENT
UID:7740
DTSTAMP:20260419T194020
DTSTART:20220527T203000
DTEND:20220527T230000
SUMMARY:Projecció del documental "Llum i llibertat"
LOCATION:Plaça del Vall, s/n 08261 Cardona
METHOD:PUBLISH
X-WR-CALNAME:cardona@cardona.cat
X-WR-TIMEZONE:Europe/Madrid
DESCRIPTION:
URI:https://www.cardona.cat/comunicacio/agenda/projeccio-del-documental-llum-i-llibertat.html
CLASS:PUBLIC
END:VEVENT
END:VCALENDAR
