BEGIN:VCALENDAR
VERSION:2.0
CALSCALE:GREGORIAN
PRODID:-//Diputació de Barcelona//DibaCMS//EN
BEGIN:VEVENT
UID:7682
DTSTAMP:20260423T044148
DTSTART:20220623T190000
DTEND:20220623T210000
SUMMARY:Sardanes amb la cobla Vents de Riella
LOCATION:Passeig de la Fira 
METHOD:PUBLISH
X-WR-CALNAME:cardona@cardona.cat
X-WR-TIMEZONE:Europe/Madrid
DESCRIPTION:
URI:https://www.cardona.cat/comunicacio/agenda/sardanes-amb-la-cobla-vents-de-riella.html
CLASS:PUBLIC
END:VEVENT
END:VCALENDAR
