BEGIN:VCALENDAR
VERSION:2.0
CALSCALE:GREGORIAN
PRODID:-//Diputació de Barcelona//DibaCMS//EN
BEGIN:VEVENT
UID:7494
DTSTAMP:20260420T013748
DTSTART:20211125T193000
DTEND:20211125T210000
SUMMARY:Presentació de l'aplicació 'VisitEscape'
LOCATION:Centre Cardona Medieval 
METHOD:PUBLISH
X-WR-CALNAME:cardona@cardona.cat
X-WR-TIMEZONE:Europe/Madrid
DESCRIPTION:
URI:https://www.cardona.cat/comunicacio/agenda/presentacio-de-laplicacio-visitescape.html
CLASS:PUBLIC
END:VEVENT
END:VCALENDAR
