BEGIN:VCALENDAR
VERSION:2.0
CALSCALE:GREGORIAN
PRODID:-//Diputació de Barcelona//DibaCMS//EN
BEGIN:VEVENT
UID:7411
DTSTAMP:20260423T161658
DTSTART:20210918T000000
DTEND:20210918T000000
SUMMARY:Commemoració del 18 de setembre: recreació històrica
LOCATION:
METHOD:PUBLISH
X-WR-CALNAME:cardona@cardona.cat
X-WR-TIMEZONE:Europe/Madrid
DESCRIPTION:
URI:https://www.cardona.cat/comunicacio/agenda/commemoracio-del-18-de-setembre-recreacio-historica.html
CLASS:PUBLIC
END:VEVENT
END:VCALENDAR
